BEGIN:VCALENDAR
VERSION:2.0
PRODID:-//eventon.com NONSGML v1.0//EN
CALSCALE:GREGORIAN
METHOD:PUBLISH
BEGIN:VEVENT
UID:69ea1f9856418
DTSTAMP:20260423T133312Z
DTSTART:20250331T100000Z
DTEND:20250331T120000Z
LOCATION:
SUMMARY:Einladung Vorbereitung zum sportmotorischen Eignungstest
DESCRIPTION:Montag\,  den 31.03.2025 ab 14:30 bis 16:00 Uhr in der Mehrzwec
 khalle am Schulzentrum Grafenau (Am Schwaimberg 15) Informationen für die 
 Anmeldung zum PZW Projekt Mit Beginn des neuen Schuljahres 2025/26 besteht 
 für junge Nachwuchssportler in der 5. Jahrgangsstufe die Möglichkeit\,  a
 n eine der Partnerschulen des Wintersports überzutreten. Ziel ist\,  die[.
 .]\nhttps://www.skiverband-bayerwald.de/events/einladung-sportmotorischen-f
 itnesstest/
URL:https://www.skiverband-bayerwald.de/events/einladung-sportmotorischen-fitnesstest/
END:VEVENT
END:VCALENDAR