BEGIN:VCALENDAR
VERSION:2.0
PRODID:-//eventon.com NONSGML v1.0//EN
CALSCALE:GREGORIAN
METHOD:PUBLISH
BEGIN:VEVENT
UID:69ecdd8eec47d
DTSTAMP:20260425T152814Z
DTSTART:20250201
DTEND:20250202
LOCATION:Arber Bergbahnen https://www.google.de/maps/dir/Groer+Arber\, +94252+Bayerisch+Eisenstein\, +Deutschland/94158
SUMMARY:BWA-F-334 - B1 Allgemeine FoBi - B-1.6 Fortbildungslehrgang am Arber
DESCRIPTION:B-1.6 Fortbildungslehrgang am Arber BWA-F-331 B1 Allgemeine FoB
 i Veranstaltung B-1.6 Fortbildungslehrgang am Arber 2 Tages Fortbildung Dis
 ziplin Ski Alpin Lehrgangsort Arber Kontakt nina.anleitner@skiverband-bayer
 wald.de Idee: Die Vereine im Skiverband Bayerwald sind die wesentliche Basi
 s für Skikurse und Aktivitäten im gesamten Winter. Übungsleiter und Inst
 ruktoren bilden den Motor dieser Maßnahmen und haben[..]\nhttps://www.skiv
 erband-bayerwald.de/events/bwa-f-334-b1-allgemeine-fobi-b-1-6-fortbildungsl
 ehrgang-am-arber-2/
URL:https://www.skiverband-bayerwald.de/events/bwa-f-334-b1-allgemeine-fobi-b-1-6-fortbildungslehrgang-am-arber-2/
END:VEVENT
END:VCALENDAR