BEGIN:VCALENDAR
VERSION:2.0
PRODID:-//eventon.com NONSGML v1.0//EN
CALSCALE:GREGORIAN
METHOD:PUBLISH
BEGIN:VEVENT
UID:69eb4ededb141
DTSTAMP:20260424T110710Z
DTSTART:20250104
DTEND:20250105
LOCATION:Schwarzenberg- Hochficht https://www.bing.com/search?q=schwarzenberg++hochficht&qs=n&form=QBRE&sp=-1&ghc=1&lq=0&pq=schwarzenberg++hochficht&sc=11-24&sk=&cvid=AA579308BF3447A6907A5ADABC296E9B&ghsh=0&ghacc=0&ghpl=
SUMMARY:BWA-F-325 -  Allgemeine FoBi - B-1.3 Fortbildung in Hochficht (3-Tage)
DESCRIPTION:Keine Buchung mehr möglich Dies ist eine 3-Tages Fortbildung B
 WA-F-325 Allgemeine FoBi Veranstaltung B-1.3 Fortbildung in Hochficht (3-Ta
 ge) Disziplin Ski Alpin Lehrgangsort Hochficht Kontakt mario.sigl@skiverban
 d-bayerwald.de Idee: Die Vereine im Skiverband Bayerwald sind die wesentlic
 he Basis für Skikurse und Aktivitäten im gesamten Winter. Übungsleiter u
 nd Instruktoren bilden den Motor dieser Maßnahmen[..]\nhttps://www.skiverb
 and-bayerwald.de/events/b-1-3-fortbildung-in-hochficht-3-tage/
URL:https://www.skiverband-bayerwald.de/events/b-1-3-fortbildung-in-hochficht-3-tage/
END:VEVENT
END:VCALENDAR