BEGIN:VCALENDAR
VERSION:2.0
PRODID:-//eventon.com NONSGML v1.0//EN
CALSCALE:GREGORIAN
METHOD:PUBLISH
BEGIN:VEVENT
UID:69e7bf6d598df
DTSTAMP:20260421T181821Z
DTSTART:20241207
DTEND:20241208
LOCATION:Reiteralm Gleiming 34 8973 Schladming/Pichl-Gleiming
SUMMARY:Skicamp Reiteralm
DESCRIPTION:2. Skicamp Bayerwald Samstag 07.12.2024- 08.12.2024 Reiteralm\n
 https://www.skiverband-bayerwald.de/events/skicamp-bayerwald-5/
URL:https://www.skiverband-bayerwald.de/events/skicamp-bayerwald-5/
END:VEVENT
END:VCALENDAR