BEGIN:VCALENDAR
VERSION:2.0
PRODID:-//eventon.com NONSGML v1.0//EN
CALSCALE:GREGORIAN
METHOD:PUBLISH
BEGIN:VEVENT
UID:69ec95e2cfb2c
DTSTAMP:20260425T102226Z
DTSTART:20240914T073000Z
DTEND:20240914T073000Z
LOCATION:
SUMMARY:Sparkassen-Kinder-Sommercup und  Max-Schierer-Sommercup
DESCRIPTION:Runner´s Festival Klouster des FC Rinchnach – Bauer´s Sport
 weltlauf &nbsp; Sparkassen-Kinder-Sommercup und Max-Schierer-Sommercup Orga
 nisator:                 Skiverband Bayerwald e. V. Austra
 gung:                 Wettkampfserie verschiedener Lauf-\, 
  Rad- und Konditionswettkämpfe Teilnahmeberechtigt: Mitglieder in einem Mi
 tgliedsverein des Skiverband Bayerwald Gewertete Wettkämpfe (s. jeweils ge
 sonderte Ausschreibung beim Veranstalter): 14.09.2024: Runner´s Festival K
 louster des FC Rinchnach – Bauer´s Sportweltlauf[..]\nhttps://www.skiver
 band-bayerwald.de/events/sparkassen-kinder-sommercup-und-max-schierer-somme
 rcup-3/
URL:https://www.skiverband-bayerwald.de/events/sparkassen-kinder-sommercup-und-max-schierer-sommercup-3/
END:VEVENT
END:VCALENDAR