BEGIN:VCALENDAR
VERSION:2.0
PRODID:-//eventon.com NONSGML v1.0//EN
CALSCALE:GREGORIAN
METHOD:PUBLISH
BEGIN:VEVENT
UID:69ebbb8c86296
DTSTAMP:20260424T185052Z
DTSTART:20240615T073000Z
DTEND:20240615T073000Z
LOCATION:
SUMMARY:Sparkassen-Kinder-Sommercup und  Max-Schierer-Sommercup
DESCRIPTION:Grafenauer BÃ¤renlauf des WSV Grafenau &nbsp; Sparkassen-Kinder
 -Sommercup und Max-Schierer-Sommercup Organisator:Â Â Â Â Â Â Â Â Â Â Â Â Â
  Â Â Â  Skiverband Bayerwald e.Â V. Austragung:Â Â Â Â Â Â Â Â Â Â Â Â Â Â 
 Â Â  Wettkampfserie verschiedener Lauf-\,  Rad- und KonditionswettkÃ¤mpfe T
 eilnahmeberechtigt: Mitglieder in einem Mitgliedsverein des Skiverband Baye
 rwald Gewertete WettkÃ¤mpfe (s. jeweils gesonderte Ausschreibung beim Veran
 stalter): 15.06.2024: Grafenauer BÃ¤renlauf des WSV Grafenau Info: www.wsv-
 grafenau.de Bitte selbstÃ¤ndig anmelden Verein und Skiverband[..]\nhttps://
 www.skiverband-bayerwald.de/events/sparkassen-kinder-sommercup-und-max-schi
 erer-sommercup/
URL:https://www.skiverband-bayerwald.de/events/sparkassen-kinder-sommercup-und-max-schierer-sommercup/
END:VEVENT
END:VCALENDAR