BEGIN:VCALENDAR
VERSION:2.0
PRODID:-//eventon.com NONSGML v1.0//EN
CALSCALE:GREGORIAN
METHOD:PUBLISH
BEGIN:VEVENT
UID:69e86326d5500
DTSTAMP:20260422T055654Z
DTSTART:20240629T073000Z
DTEND:20240629T073000Z
LOCATION:
SUMMARY:Erste Hilfe Kurs 3. Fortbildungstag
DESCRIPTION:Veranstaltung 1. Hilfe Kurs Bergwacht Disziplin Nordisch\,  Alp
 in Lehrgangsort Ruselfunktionshaus (Ruselabsatz 115\,  94571 Schaufling) Ko
 ntakt buero@skiverband-bayerwald.de Weitere Informationen: Erste Hilfe Kurs
  bei der Bergwacht (Ausbilder: Pammer Michael) Der Kurs wird Skispezifisch 
 Nordisch und Alpin  gestaltet. Gültig als 3. Fortbildungstag! Auch für d
 ie zurückliegende Saison. Es ist keine BG Abrechnung möglich\, [..]\nhttp
 s://www.skiverband-bayerwald.de/events/erste-hilfe-kurs-3-fortbildungstag/
URL:https://www.skiverband-bayerwald.de/events/erste-hilfe-kurs-3-fortbildungstag/
END:VEVENT
END:VCALENDAR