BEGIN:VCALENDAR
VERSION:2.0
PRODID:-//eventon.com NONSGML v1.0//EN
CALSCALE:GREGORIAN
METHOD:PUBLISH
BEGIN:VEVENT
UID:69e60957a06a2
DTSTAMP:20260420T110911Z
DTSTART:20220122
DTEND:20220123
LOCATION:
SUMMARY:Sparte Nordisch: Ausschreibung Lizenzverlängerung
DESCRIPTION:N-13/22-SPN\,  Lehrgangsart Breitensport /Fortbildungs-Lehrgang
  zur Lizenz Verlängerung Termin 22.01 /23.01.2022 Finsterau/Mauth Bayerisc
 her Wald Meldeschluss 19.01.2022 Siehe Ausschreibung Fortbildung Nordisch 2
 022\nhttps://www.skiverband-bayerwald.de/events/sparte-nordisch-ausschreibu
 ng-lizenzverlaengerung/
URL:https://www.skiverband-bayerwald.de/events/sparte-nordisch-ausschreibung-lizenzverlaengerung/
END:VEVENT
END:VCALENDAR