BEGIN:VCALENDAR
VERSION:2.0
PRODID:-//eventon.com NONSGML v1.0//EN
CALSCALE:GREGORIAN
METHOD:PUBLISH
BEGIN:VEVENT
UID:69ed21ea8282c
DTSTAMP:20260425T201954Z
DTSTART:20220212
DTEND:20220213
LOCATION:
SUMMARY:Sparte Alpin: SC Winzer
DESCRIPTION:Pokalrennen Brotjackelriegelcup Samstag 12.02.2022 Start 14:00U
 hr Sparkassencup 3 Rennen ausschreibung Winzer &nbsp; &nbsp;\nhttps://www.s
 kiverband-bayerwald.de/events/sparte-alpin-sc-winzer/
URL:https://www.skiverband-bayerwald.de/events/sparte-alpin-sc-winzer/
END:VEVENT
END:VCALENDAR