BEGIN:VCALENDAR
VERSION:2.0
PRODID:-//eventon.com NONSGML v1.0//EN
CALSCALE:GREGORIAN
METHOD:PUBLISH
BEGIN:VEVENT
UID:69eb1c4e155d1
DTSTAMP:20260424T073126Z
DTSTART:20220205
DTEND:20220206
LOCATION:
SUMMARY:ABGESAGT!!!!Sparte Alpin: SC Herzogsreut
DESCRIPTION:Pokalrennen Wolfensteincup Ausweichtermin 19.02.22\nhttps://www
 .skiverband-bayerwald.de/events/sparte-alpin-sc-herzogsreut/
URL:https://www.skiverband-bayerwald.de/events/sparte-alpin-sc-herzogsreut/
END:VEVENT
END:VCALENDAR